Workbook
Name Flag_Talent_2_a: INDIRECT(ADDRESS(3-1+MATCH('[1]user-guide-image'!$B$1,'[1]user-guide-image'!$B$2:$B$124, 0), 6))
Name Flag_Talent_2_a: INDIRECT(ADDRESS(3-1+MATCH('[2]user-guide-image'!$B$1,'[2]user-guide-image'!$B$2:$B$124, 0), 6))
Name Flag_Talent_2_a: INDIRECT(ADDRESS(3-1+MATCH('[3]user-guide-image'!$B$1,'[3]user-guide-image'!$B$2:$B$124, 0), 6))
Name Flag_Talent_2_a: INDIRECT(ADDRESS(3-1+MATCH('[1]user-guide-image'!$B$1,'[1]user-guide-image'!$B$2:$B$124, 0), 6))
Name Flag_Talent_2_a: INDIRECT(ADDRESS(3-1+MATCH('[1]user-guide-image'!$B$1,'[1]user-guide-image'!$B$2:$B$124, 0), 6))
Name Flag_Talent_2_a: INDIRECT(ADDRESS(3-1+MATCH('[4]user-guide-image'!$B$1,'[4]user-guide-image'!$B$2:$B$124, 0), 6))
Name Flag_Talent_2_a: INDIRECT(ADDRESS(3-1+MATCH('[4]user-guide-image'!$B$1,'[4]user-guide-image'!$B$2:$B$124, 0), 6))
Name Flag_Talent_2_a: INDIRECT(ADDRESS(3-1+MATCH('[4]user-guide-image'!$B$1,'[4]user-guide-image'!$B$2:$B$124, 0), 6))
Name Flag_Talent_2_a: INDIRECT(ADDRESS(3-1+MATCH('[5]user-guide-image'!$B$1,'[5]user-guide-image'!$B$2:$B$124, 0), 6))
Name Flag_Talent_2_a: INDIRECT(ADDRESS(3-1+MATCH('[5]user-guide-image'!$B$1,'[5]user-guide-image'!$B$2:$B$124, 0), 6))
Name Flag_Talent_2_a: INDIRECT(ADDRESS(3-1+MATCH('user-guide-image'!$B$1,'user-guide-image'!$B$2:$B$124, 0), 6))
Name lu_Filter_Income: OFFSET(#REF!,0,0,#REF!,1)
Name lu_Filter_Income: OFFSET(#REF!,0,0,#REF!,1)
Name lu_Filter_Income: OFFSET(#REF!,0,0,#REF!,1)
Name lu_Filter_Income: OFFSET(#REF!,0,0,#REF!,1)
Name lu_Filter_Income: OFFSET([6]tblTerritories!$BD$3,0,0,[6]tblTerritories!$BD$2,1)
Name lu_Filter_Var: OFFSET(#REF!,0,0,#REF!,1)
Name lu_Filter_Var: OFFSET(#REF!,0,0,#REF!,1)
Name lu_Filter_Var: OFFSET(#REF!,0,0,#REF!,1)
Name lu_Filter_Var: OFFSET(#REF!,0,0,#REF!,1)
Name lu_Filter_Var: OFFSET([6]tblTerritories!$BH$3,0,0,[6]tblTerritories!$BH$2,1)
Name Roll_Over: #REF!
Name Roll_Over: #REF!
Name Roll_Over: #REF!
Name Roll_Over: #REF!
Name Roll_Over: #REF!
Name Roll_Over: #REF!
Name Roll_Over: #REF!
Name Roll_Over: #REF!
Name Roll_Over: #REF!
Name Roll_Over: #REF!
Name Roll_Over: #REF!
Name Rollover: #REF!
Name Rollover: #REF!
Name Rollover: #REF!
Name Rollover: #REF!
Name Rollover: #REF!
Name Rollover: #REF!
Name Rollover: #REF!
Name Rollover: #REF!
Name Rollover: #REF!
Name Rollover: #REF!
Name Rollover: #REF!
Name Slicer_1_Economic_Pillar: #N/A
Name Slicer_Column61: #N/A
Name Slicer_Countries1: #N/A
Name Slicer_Countries11: #N/A
Name Slicer_Indicator1: #N/A
Name Slicer_Indicator11: #N/A
Name Slicer_Indicator111: #N/A
Name Slicer_Indicator12: #N/A
Name Slicer_Indicators: #N/A
Name Slicer_Pages1: #N/A
Name Slicer_Peer: #N/A
Name Slicer_Peer1: #N/A
Name Slicer_Population: #N/A
Name Slicer_Population11: #N/A
Name Slicer_Rankings1: #N/A
Name Slicer_Scatter___siZe: #N/A
Name Slicer_Scatter___X: #N/A

Sheet Year2024
B1: NA. | C1: Data | H1: Australia | I1: Bangladesh | J1: Brunei | K1: Cambodia | L1: Canada | M1: Chile | N1: China | O1: Taiwan | P1: Ecuador | Q1: Hong Kong, SAR | R1: India | S1: Indonesia | T1: Japan | U1: Laos | V1: Malaysia | W1: Mexico | X1: Myanmar | Y1: New Zealand | Z1: Pakistan | AA1: Papua New Guinea | AB1: Peru | AC1: Philippines | AD1: Russia | AE1: Singapore | AF1: South Korea | AG1: Sri Lanka | AH1: Thailand | AI1: United Kingdom | AJ1: United States | AK1: Vietnam
B2: 0verall STI | C2: 0verall STI
B4: 1. Economic Pillar | C4: Economic Pillar
A5: 1 | B5: 1.01 | C5: Consumer price inflation | H5: 2023 | I5: 2023 | J5: 2023 | K5: 2023 | L5: 2023 | M5: 2023 | N5: 2023 | O5: 2023 | P5: 2023 | Q5: 2023 | R5: 2023 | S5: 2023 | T5: 2023 | U5: 2023 | V5: 2023 | W5: 2023 | X5: 2023 | Y5: 2023 | Z5: 2023 | AA5: 2023 | AB5: 2023 | AC5: 2023 | AD5: 2023 | AE5: 2023 | AF5: 2023 | AG5: 2022 | AH5: 2023 | AI5: 2023 | AJ5: 2023 | AK5: 2023 | AL5: y | AM5: 2023
A6: 2 | B6: 1.02 | C6: Real GDP Growth per capita, % GDP | H6: 2023 | I6: 2023 | J6: 2023 | K6: 2023 | L6: 2023 | M6: 2023 | N6: 2023 | O6: 2023 | P6: 2023 | Q6: 2023 | R6: 2023 | S6: 2023 | T6: 2023 | U6: 2023 | V6: 2023 | W6: 2023 | X6: 2023 | Y6: 2023 | Z6: 2023 | AA6: 2023 | AB6: 2023 | AC6: 2023 | AD6: 2023 | AE6: 2023 | AF6: 2023 | AG6: 2022 | AH6: 2023 | AI6: 2023 | AJ6: 2023 | AK6: 2023 | AM6: 2023
A7: 3 | B7: 1.03 | C7: Growth in labor force, % | H7: 2023 | I7: 2023 | J7: 2023 | K7: 2023 | L7: 2023 | M7: 2023 | N7: 2023 | O7: 2023 | P7: 2023 | Q7: 2023 | R7: 2023 | S7: 2023 | T7: 2023 | U7: 2023 | V7: 2023 | W7: 2023 | X7: 2023 | Y7: 2023 | Z7: 2023 | AA7: 2023 | AB7: 2023 | AC7: 2023 | AD7: 2023 | AE7: 2023 | AF7: 2023 | AG7: 2023 | AH7: 2023 | AI7: 2023 | AJ7: 2023 | AK7: 2023 | AM7: 2023
A8: 4 | B8: 1.04 | C8: Foreign direct investment, net inflows, % GDP | H8: 2022 | I8: 2022 | J8: 2022 | K8: 2022 | L8: 2022 | M8: 2022 | N8: 2022 | O8: 2021 | P8: 2022 | Q8: 2022 | R8: 2022 | S8: 2022 | T8: 2022 | U8: 2022 | V8: 2022 | W8: 2022 | X8: 2022 | Y8: 2022 | Z8: 2022 | AA8: 2022 | AB8: 2022 | AC8: 2022 | AD8: 2022 | AE8: 2022 | AF8: 2022 | AG8: 2022 | AH8: 2022 | AI8: 2022 | AJ8: 2022 | AK8: 2022 | AL8: y | AM8: 2022
A9: 5 | B9: 1.05 | C9: Gross fixed capital formation, % GDP | H9: 2023 | I9: 2023 | J9: 2023 | K9: 2023 | L9: 2023 | M9: 2023 | N9: 2022 | O9: 2023 | P9: 2023 | Q9: 2023 | R9: 2023 | S9: 2023 | T9: 2022 | U9: 2016 | V9: 2023 | W9: 2023 | Y9: 2022 | Z9: 2023 | AB9: 2023 | AC9: 2023 | AD9: 2023 | AE9: 2023 | AF9: 2023 | AG9: 2023 | AH9: 2023 | AI9: 2023 | AJ9: 2022 | AK9: 2022 | AM9: 2023
A10: 6 | B10: 1.06 | C10: Tariff & non-tariff barriers
A11: 7 | B11: 1.06.01 | C11: Tariff barriers
A12: 8 | B12: 1.06.01.a | C12: Tariff barriers in force | H12: 2023 | I12: 2023 | J12: 2023 | K12: 2023 | L12: 2023 | M12: 2023 | N12: 2023 | O12: 2023 | P12: 2023 | Q12: 2023 | R12: 2023 | S12: 2023 | T12: 2023 | U12: 2023 | V12: 2023 | W12: 2023 | X12: 2023 | Y12: 2023 | Z12: 2023 | AA12: 2023 | AB12: 2023 | AC12: 2023 | AD12: 2023 | AE12: 2023 | AF12: 2023 | AG12: 2023 | AH12: 2023 | AI12: 2023 | AJ12: 2023 | AK12: 2023 | AM12: 2023
A13: 9 | B13: 1.06.01.b | C13: New tariff barriers 2023 | H13: 2023 | I13: 2023 | J13: 2023 | K13: 2023 | L13: 2023 | M13: 2023 | N13: 2023 | O13: 2023 | P13: 2023 | Q13: 2023 | R13: 2023 | S13: 2023 | T13: 2023 | U13: 2023 | V13: 2023 | W13: 2023 | X13: 2023 | Y13: 2023 | Z13: 2023 | AA13: 2023 | AB13: 2023 | AC13: 2023 | AD13: 2023 | AE13: 2023 | AF13: 2023 | AG13: 2023 | AH13: 2023 | AI13: 2023 | AJ13: 2023 | AK13: 2023 | AL13: y | AM13: 2023
A14: 10 | B14: 1.06.01.c | C14: Net percentage of imports affected by new tariff barriers (2023) | H14: 2023 | I14: 2023 | J14: 2023 | K14: 2023 | L14: 2023 | M14: 2023 | N14: 2023 | O14: 2023 | P14: 2023 | R14: 2023 | S14: 2023 | T14: 2023 | U14: 2023 | V14: 2023 | W14: 2023 | X14: 2023 | Y14: 2023 | Z14: 2023 | AA14: 2023 | AB14: 2023 | AC14: 2023 | AD14: 2023 | AE14: 2023 | AF14: 2023 | AG14: 2023 | AH14: 2023 | AI14: 2023 | AJ14: 2023 | AK14: 2023 | AM14: 2023
A15: 11 | B15: 1.06.02 | C15: Non-tariff barriers
A16: 12 | B16: 1.06.02.a | C16: Non-tariff barriers in force | H16: 2023 | I16: 2023 | J16: 2023 | K16: 2023 | L16: 2023 | M16: 2023 | N16: 2023 | O16: 2023 | P16: 2023 | Q16: 2023 | R16: 2023 | S16: 2023 | T16: 2023 | U16: 2023 | V16: 2023 | W16: 2023 | X16: 2023 | Y16: 2023 | Z16: 2023 | AA16: 2023 | AB16: 2023 | AC16: 2023 | AD16: 2023 | AE16: 2023 | AF16: 2023 | AG16: 2023 | AH16: 2023 | AI16: 2023 | AJ16: 2023 | AK16: 2023 | AL16: y | AM16: 2023
A17: 13 | B17: 1.06.02.b | C17: New non-tariff barriers 2023 | H17: 2023 | I17: 2023 | J17: 2023 | K17: 2023 | L17: 2023 | M17: 2023 | N17: 2023 | O17: 2023 | P17: 2023 | Q17: 2023 | R17: 2023 | S17: 2023 | T17: 2023 | U17: 2023 | V17: 2023 | W17: 2023 | X17: 2023 | Y17: 2023 | Z17: 2023 | AA17: 2023 | AB17: 2023 | AC17: 2023 | AD17: 2023 | AE17: 2023 | AF17: 2023 | AG17: 2023 | AH17: 2023 | AI17: 2023 | AJ17: 2023 | AK17: 2023 | AL17: y | AM17: 2023
A18: 14 | B18: 1.06.02.c | C18: Net percentage of imports affected by new non-tariff barriers (2023) | H18: 2023 | I18: 2023 | J18: 2023 | K18: 2023 | L18: 2023 | M18: 2023 | N18: 2023 | O18: 2023 | P18: 2023 | R18: 2023 | S18: 2023 | T18: 2023 | U18: 2023 | V18: 2023 | W18: 2023 | X18: 2023 | Y18: 2023 | Z18: 2023 | AA18: 2023 | AB18: 2023 | AC18: 2023 | AD18: 2023 | AE18: 2023 | AF18: 2023 | AG18: 2023 | AH18: 2023 | AI18: 2023 | AJ18: 2023 | AK18: 2023 | AM18: 2023
A19: 15 | B19: 1.07 | C19: Trade liberalization
A20: 16 | B20: 1.07.01 | C20: Regional Trade Agreements, number in force | H20: 2024 | I20: 2024 | J20: 2024 | K20: 2024 | L20: 2024 | M20: 2024 | N20: 2024 | O20: 2024 | P20: 2024 | Q20: 2024 | R20: 2024 | S20: 2024 | T20: 2024 | U20: 2024 | V20: 2024 | W20: 2024 | X20: 2024 | Y20: 2024 | Z20: 2024 | AA20: 2024 | AB20: 2024 | AC20: 2024 | AD20: 2024 | AE20: 2024 | AF20: 2024 | AG20: 2024 | AH20: 2024 | AI20: 2024 | AJ20: 2024 | AK20: 2024 | AM20: 2024
A21: 17 | B21: 1.07.02 | C21: Capital account liberalization, Index | H21: 2021 | I21: 2021 | K21: 2021 | L21: 2021 | M21: 2021 | N21: 2021 | P21: 2021 | Q21: 2021 | R21: 2021 | S21: 2021 | T21: 2021 | U21: 2021 | V21: 2021 | W21: 2021 | X21: 2021 | Y21: 2021 | Z21: 2021 | AA21: 2021 | AB21: 2021 | AC21: 2021 | AD21: 2021 | AE21: 2021 | AF21: 2021 | AG21: 2021 | AH21: 2021 | AI21: 2021 | AJ21: 2021 | AK21: 2021 | AM21: 2021
A22: 18 | B22: 1.07.03 | C22: Investment Freedom, Index | H22: 2024 | I22: 2024 | J22: 2024 | K22: 2024 | L22: 2024 | M22: 2024 | N22: 2024 | O22: 2024 | P22: 2024 | R22: 2024 | S22: 2024 | T22: 2024 | V22: 2024 | W22: 2024 | X22: 2024 | Y22: 2024 | Z22: 2024 | AA22: 2024 | AB22: 2024 | AC22: 2024 | AD22: 2024 | AE22: 2024 | AF22: 2024 | AG22: 2024 | AH22: 2024 | AI22: 2024 | AJ22: 2024 | AK22: 2024 | AM22: 2024
A23: 19 | B23: 1.08 | C23: Exchange rate stability, parity change from national currency to SDR, 2023/2021 | H23: 2023 | I23: 2023 | J23: 2023 | K23: 2023 | L23: 2023 | M23: 2023 | N23: 2023 | O23: 2023 | P23: 2023 | Q23: 2023 | R23: 2023 | S23: 2023 | T23: 2023 | U23: 2023 | V23: 2023 | W23: 2023 | X23: 2020 | Y23: 2023 | Z23: 2023 | AA23: 2021 | AB23: 2023 | AC23: 2023 | AD23: 2023 | AE23: 2023 | AF23: 2023 | AG23: 2021 | AH23: 2023 | AI23: 2023 | AJ23: 2023 | AK23: 2023 | AL23: y | AM23: 2023
A24: 20 | B24: 1.09 | C24: Domestic credit to private sector, % of GDP | H24: 2022 | I24: 2022 | J24: 2022 | K24: 2022 | M24: 2022 | N24: 2022 | P24: 2022 | Q24: 2022 | R24: 2021 | S24: 2022 | T24: 2022 | V24: 2022 | W24: 2022 | X24: 2020 | Y24: 2022 | Z24: 2022 | AA24: 2022 | AB24: 2021 | AC24: 2022 | AD24: 2021 | AE24: 2020 | AF24: 2022 | AG24: FALSE | AH24: 2022 | AI24: 2022 | AJ24: 2021 | AK24: 2022 | AM24: 2022
A25: 21 | B25: 1.10 | C25: Foreign trade and payments risk
A26: 22 | B26: 1.10.01 | C26: Country credit rating | H26: 2024 | I26: 2024 | K26: 2024 | L26: 2024 | M26: 2024 | N26: 2024 | O26: 2024 | P26: 2024 | Q26: 2024 | R26: 2024 | S26: 2024 | T26: 2024 | U26: 2024 | V26: 2024 | W26: 2024 | Y26: 2024 | Z26: 2024 | AA26: 2024 | AB26: 2024 | AC26: 2024 | AD26: 2024 | AE26: 2024 | AF26: 2024 | AG26: 2024 | AH26: 2024 | AI26: 2024 | AJ26: 2024 | AK26: 2024 | AM26: 2024
A27: 23 | B27: 1.10.02 | C27: Gross debt, % GDP | H27: 2023 | I27: 2023 | J27: 2023 | K27: 2023 | L27: 2023 | M27: 2023 | N27: 2023 | O27: 2023 | P27: 2023 | Q27: 2023 | R27: 2023 | S27: 2023 | T27: 2023 | U27: 2023 | V27: 2023 | W27: 2023 | X27: 2023 | Y27: 2023 | Z27: 2023 | AA27: 2023 | AB27: 2023 | AC27: 2023 | AD27: 2023 | AE27: 2023 | AF27: 2023 | AG27: 2022 | AH27: 2023 | AI27: 2023 | AJ27: 2023 | AK27: 2023 | AM27: 2023
A28: 24 | B28: 1.11 | C28: Trade costs
A29: 25 | B29: 1.11.01 | C29: Logistics performance, index | H29: 2023 | I29: 2023 | J29: 2018 | K29: 2023 | L29: 2023 | M29: 2023 | N29: 2023 | O29: 2023 | P29: 2018 | Q29: 2023 | R29: 2023 | S29: 2023 | T29: 2023 | U29: 2023 | V29: 2023 | W29: 2023 | X29: 2018 | Y29: 2023 | Z29: 2018 | AA29: 2023 | AB29: 2023 | AC29: 2023 | AD29: 2023 | AE29: 2023 | AF29: 2023 | AG29: 2023 | AH29: 2023 | AI29: 2023 | AJ29: 2023 | AK29: 2023 | AM29: 2023
A30: 26 | B30: 1.11.02 | C30: Corruption perceptions, index | H30: 2023 | I30: 2023 | J30: 2020 | K30: 2023 | L30: 2023 | M30: 2023 | N30: 2023 | O30: 2023 | P30: 2023 | Q30: 2023 | R30: 2023 | S30: 2023 | T30: 2023 | U30: 2023 | V30: 2023 | W30: 2023 | X30: 2023 | Y30: 2023 | Z30: 2023 | AA30: 2023 | AB30: 2023 | AC30: 2023 | AD30: 2023 | AE30: 2023 | AF30: 2023 | AG30: 2023 | AH30: 2023 | AI30: 2023 | AJ30: 2023 | AK30: 2023 | AM30: 2023
A31: 27 | B31: 1.11.03 | C31: Rule of law, index | H31: 2022 | I31: 2022 | J31: 2022 | K31: 2022 | L31: 2022 | M31: 2022 | N31: 2022 | O31: 2022 | P31: 2022 | Q31: 2022 | R31: 2022 | S31: 2022 | T31: 2022 | U31: 2022 | V31: 2022 | W31: 2022 | X31: 2022 | Y31: 2022 | Z31: 2022 | AA31: 2022 | AB31: 2022 | AC31: 2022 | AD31: 2022 | AE31: 2022 | AF31: 2022 | AG31: 2022 | AH31: 2022 | AI31: 2022 | AJ31: 2022 | AK31: 2022 | AM31: 2022
A32: 28 | B32: 1.12 | C32: Monetary policy intervention
A33: 29 | B33: 1.12.01 | C33: Current account balance, % GDP | H33: 2023 | I33: 2023 | J33: 2023 | K33: 2023 | L33: 2023 | M33: 2023 | N33: 2023 | O33: 2023 | P33: 2023 | Q33: 2023 | R33: 2023 | S33: 2023 | T33: 2023 | U33: 2023 | V33: 2023 | W33: 2023 | X33: 2023 | Y33: 2023 | Z33: 2023 | AA33: 2023 | AB33: 2023 | AC33: 2023 | AD33: 2023 | AE33: 2023 | AF33: 2023 | AG33: 2022 | AH33: 2023 | AI33: 2023 | AJ33: 2023 | AK33: 2023 | AM33: 2023
A34: 30 | B34: 1.12.02 | C34: Change (1-year) in total reserves (includes gold), % GDP | H34: 2023 | I34: 2023 | J34: 2023 | K34: 2022 | L34: 2023 | M34: 2023 | N34: 2023 | P34: 2023 | Q34: 2023 | R34: 2023 | S34: 2023 | T34: 2023 | U34: 2023 | V34: 2023 | W34: 2023 | X34: 2020 | Y34: 2023 | Z34: 2023 | AA34: 2022 | AB34: 2023 | AC34: 2023 | AD34: 2023 | AE34: 2023 | AF34: 2023 | AG34: 2021 | AH34: 2023 | AI34: 2023 | AJ34: 2023 | AK34: 2022 | AM34: 2023
A35: 31 | B35: 1.13 | C35: Export concentration
A36: 32 | B36: 1.13.01 | C36: Export market concentration, Top 5 as % total | H36: 2023 | I36: 2023 | J36: 2023 | K36: 2023 | L36: 2023 | M36: 2023 | N36: 2023 | O36: 2023 | P36: 2023 | Q36: 2023 | R36: 2023 | S36: 2023 | T36: 2023 | U36: 2023 | V36: 2023 | W36: 2023 | X36: 2023 | Y36: 2023 | Z36: 2023 | AA36: 2023 | AB36: 2023 | AC36: 2023 | AD36: 2023 | AE36: 2023 | AF36: 2023 | AG36: 2023 | AH36: 2023 | AI36: 2023 | AJ36: 2023 | AK36: 2023 | AM36: 2023
A37: 33 | B37: 1.13.02 | C37: Export product concentration, Top 5 as % total | H37: 2023 | I37: 2023 | J37: 2023 | K37: 2023 | L37: 2023 | M37: 2023 | N37: 2023 | O37: 2023 | P37: 2023 | Q37: 2023 | R37: 2023 | S37: 2023 | T37: 2023 | U37: 2023 | V37: 2023 | W37: 2023 | X37: 2023 | Y37: 2023 | Z37: 2023 | AA37: 2023 | AB37: 2023 | AC37: 2023 | AD37: 2023 | AE37: 2023 | AF37: 2023 | AG37: 2023 | AH37: 2023 | AI37: 2023 | AJ37: 2023 | AK37: 2023 | AM37: 2023
A38: 34 | B38: 1.14 | C38: Exports of goods and services
A39: 35 | B39: 1.14.01 | C39: Merchandise exports, US$ | H39: 2023 | I39: 2023 | J39: 2023 | K39: 2023 | L39: 2023 | M39: 2023 | N39: 2023 | O39: 2023 | P39: 2023 | Q39: 2023 | R39: 2023 | S39: 2023 | T39: 2023 | U39: 2023 | V39: 2023 | W39: 2023 | X39: 2023 | Y39: 2023 | Z39: 2023 | AA39: 2023 | AB39: 2023 | AC39: 2023 | AD39: 2023 | AE39: 2023 | AF39: 2023 | AG39: 2023 | AH39: 2023 | AI39: 2023 | AJ39: 2023 | AK39: 2023 | AL39: y | AM39: 2023
A40: 36 | B40: 1.14.02 | C40: Commercial services exports, US$ | H40: 2023 | I40: 2023 | J40: 2023 | K40: 2023 | L40: 2023 | M40: 2023 | N40: 2023 | O40: 2023 | P40: 2023 | Q40: 2023 | R40: 2023 | S40: 2023 | T40: 2023 | U40: 2023 | V40: 2023 | W40: 2023 | X40: 2022 | Y40: 2023 | Z40: 2023 | AA40: 2022 | AB40: 2023 | AC40: 2023 | AD40: 2023 | AE40: 2023 | AF40: 2023 | AG40: 2023 | AH40: 2023 | AI40: 2023 | AJ40: 2023 | AK40: 2023 | AL40: y | AM40: 2023
A41: 37 | B41: 1.15 | C41: Technological innovation
...

Sheet Year2023
B1: NA. | C1: Data | H1: Australia | I1: Bangladesh | J1: Brunei | K1: Cambodia | L1: Canada | M1: Chile | N1: China | O1: Taiwan | P1: Ecuador | Q1: Hong Kong, SAR | R1: India | S1: Indonesia | T1: Japan | U1: Laos | V1: Malaysia | W1: Mexico | X1: Myanmar | Y1: New Zealand | Z1: Pakistan | AA1: Papua New Guinea | AB1: Peru | AC1: Philippines | AD1: Russia | AE1: Singapore | AF1: South Korea | AG1: Sri Lanka | AH1: Thailand | AI1: United Kingdom | AJ1: United States | AK1: Vietnam
B2: 0verall STI | C2: 0verall STI
B4: 1. Economic Pillar | C4: Economic Pillar
A5: 1 | B5: 1.01 | C5: Consumer price inflation | H5: 2021 | I5: 2021 | J5: 2021 | K5: 2021 | L5: 2021 | M5: 2021 | N5: 2021 | O5: 2021 | P5: 2021 | Q5: 2021 | R5: 2021 | S5: 2021 | T5: 2021 | U5: 2021 | V5: 2021 | W5: 2021 | X5: 2021 | Y5: 2021 | Z5: 2021 | AA5: 2021 | AB5: 2021 | AC5: 2021 | AD5: 2021 | AE5: 2021 | AF5: 2021 | AG5: 2021 | AH5: 2021 | AI5: 2021 | AJ5: 2021 | AK5: 2021
A6: 2 | B6: 1.02 | C6: Real GDP Growth per capita, % GDP | H6: 2021 | I6: 2021 | J6: 2021 | K6: 2021 | L6: 2021 | M6: 2021 | N6: 2021 | O6: 2021 | P6: 2021 | Q6: 2021 | R6: 2021 | S6: 2021 | T6: 2021 | U6: 2021 | V6: 2021 | W6: 2021 | X6: 2021 | Y6: 2021 | Z6: 2021 | AA6: 2021 | AB6: 2021 | AC6: 2021 | AD6: 2021 | AE6: 2021 | AF6: 2021 | AG6: 2021 | AH6: 2021 | AI6: 2021 | AJ6: 2021 | AK6: 2021
A7: 3 | B7: 1.03 | C7: Growth in labor force, % | H7: 2021 | I7: 2021 | J7: 2021 | K7: 2021 | L7: 2021 | M7: 2021 | N7: 2021 | O7: 2021 | P7: 2021 | Q7: 2021 | R7: 2021 | S7: 2021 | T7: 2021 | U7: 2021 | V7: 2021 | W7: 2021 | X7: 2021 | Y7: 2021 | Z7: 2021 | AA7: 2021 | AB7: 2021 | AC7: 2021 | AD7: 2021 | AE7: 2021 | AF7: 2021 | AG7: 2021 | AH7: 2021 | AI7: 2021 | AJ7: 2021 | AK7: 2021
A8: 4 | B8: 1.04 | C8: Foreign direct investment, net inflows, % GDP | H8: 2020 | I8: 2020 | J8: 2020 | K8: 2020 | L8: 2020 | M8: 2020 | N8: 2020 | O8: 2020 | P8: 2020 | Q8: 2020 | R8: 2020 | S8: 2020 | T8: 2020 | U8: 2020 | V8: 2020 | W8: 2020 | X8: 2020 | Y8: 2020 | Z8: 2020 | AA8: 2020 | AB8: 2020 | AC8: 2020 | AD8: 2020 | AE8: 2020 | AF8: 2020 | AG8: 2020 | AH8: 2020 | AI8: 2020 | AJ8: 2020 | AK8: 2020
A9: 5 | B9: 1.05 | C9: Gross fixed capital formation, % GDP | H9: 2020 | I9: 2020 | J9: 2020 | K9: 2020 | L9: 2020 | M9: 2020 | N9: 2020 | O9: 2020 | P9: 2020 | Q9: 2020 | R9: 2020 | S9: 2020 | T9: 2020 | U9: 2020 | V9: 2020 | W9: 2020 | X9: 2020 | Y9: 2020 | Z9: 2020 | AA9: 2020 | AB9: 2020 | AC9: 2020 | AD9: 2020 | AE9: 2020 | AF9: 2020 | AG9: 2020 | AH9: 2020 | AI9: 2020 | AJ9: 2020 | AK9: 2020
A10: 6 | B10: 1.06 | C10: Tariff & non-tariff barriers
A11: 7 | B11: 1.06.01 | C11: Tariff barriers
A12: 8 | B12: 1.06.01.a | C12: Tariff barriers in force | H12: 2021 | I12: 2021 | K12: 2021 | L12: 2021 | M12: 2021 | N12: 2021 | O12: 2021 | P12: 2021 | Q12: 2021 | R12: 2021 | S12: 2021 | T12: 2021 | V12: 2021 | W12: 2021 | X12: 2021 | Y12: 2021 | Z12: 2021 | AA12: 2021 | AB12: 2021 | AC12: 2021 | AD12: 2021 | AE12: 2021 | AF12: 2021 | AG12: 2021 | AH12: 2021 | AI12: 2021 | AJ12: 2021 | AK12: 2021
A13: 9 | B13: 1.06.01.b | C13: New tariff barriers 2021 | H13: 2021 | I13: 2021 | K13: 2021 | L13: 2021 | M13: 2021 | N13: 2021 | O13: 2021 | P13: 2021 | Q13: 2021 | R13: 2021 | S13: 2021 | T13: 2021 | V13: 2021 | W13: 2021 | X13: 2021 | Y13: 2021 | Z13: 2021 | AA13: 2021 | AB13: 2021 | AC13: 2021 | AD13: 2021 | AE13: 2021 | AF13: 2021 | AG13: 2021 | AH13: 2021 | AI13: 2021 | AJ13: 2021 | AK13: 2021
A14: 10 | B14: 1.06.01.c | C14: Percentage of trade affected by tariff barrier (up to 2018) | H14: 2018 | I14: 2018 | K14: 2018 | L14: 2018 | M14: 2018 | N14: 2018 | P14: 2018 | R14: 2018 | S14: 2018 | T14: 2018 | V14: 2018 | W14: 2018 | Y14: 2018 | Z14: 2018 | AB14: 2018 | AC14: 2018 | AD14: 2018 | AE14: 2018 | AF14: 2018 | AG14: 2018 | AH14: 2018 | AI14: 2018 | AJ14: 2018 | AK14: 2018
A15: 11 | B15: 1.06.02 | C15: Non-tariff barriers
A16: 12 | B16: 1.06.02.a | C16: Non-tariff barriers in force | H16: 2021 | I16: 2021 | K16: 2021 | L16: 2021 | M16: 2021 | N16: 2021 | O16: 2021 | P16: 2021 | Q16: 2021 | R16: 2021 | S16: 2021 | T16: 2021 | V16: 2021 | W16: 2021 | X16: 2021 | Y16: 2021 | Z16: 2021 | AA16: 2021 | AB16: 2021 | AC16: 2021 | AD16: 2021 | AE16: 2021 | AF16: 2021 | AG16: 2021 | AH16: 2021 | AI16: 2021 | AJ16: 2021 | AK16: 2021
A17: 13 | B17: 1.06.02.b | C17: New non-tariff barriers 2021 | H17: 2021 | I17: 2021 | K17: 2021 | L17: 2021 | M17: 2021 | N17: 2021 | O17: 2021 | P17: 2021 | Q17: 2021 | R17: 2021 | S17: 2021 | T17: 2021 | V17: 2021 | W17: 2021 | X17: 2021 | Y17: 2021 | Z17: 2021 | AA17: 2021 | AB17: 2021 | AC17: 2021 | AD17: 2021 | AE17: 2021 | AF17: 2021 | AG17: 2021 | AH17: 2021 | AI17: 2021 | AJ17: 2021 | AK17: 2021
A18: 14 | B18: 1.06.02.c | C18: Percentage of trade affected by non-tariff barrier (up to 2018) | H18: 2018 | I18: 2018 | J18: 2018 | K18: 2018 | L18: 2018 | M18: 2018 | N18: 2018 | P18: 2018 | Q18: 2018 | R18: 2018 | S18: 2018 | T18: 2018 | V18: 2018 | W18: 2018 | Y18: 2018 | Z18: 2018 | AB18: 2018 | AC18: 2018 | AD18: 2018 | AE18: 2018 | AF18: 2018 | AG18: 2018 | AH18: 2018 | AI18: 2018 | AJ18: 2018 | AK18: 2018
A19: 15 | B19: 1.07 | C19: Trade liberalization
A20: 16 | B20: 1.07.01 | C20: Regional Trade Agreements, number in force | H20: 2022 | I20: 2022 | J20: 2022 | K20: 2022 | L20: 2022 | M20: 2022 | N20: 2022 | O20: 2022 | P20: 2022 | Q20: 2022 | R20: 2022 | S20: 2022 | T20: 2022 | U20: 2022 | V20: 2022 | W20: 2022 | X20: 2022 | Y20: 2022 | Z20: 2022 | AA20: 2022 | AB20: 2022 | AC20: 2022 | AD20: 2022 | AE20: 2022 | AF20: 2022 | AG20: 2022 | AH20: 2022 | AI20: 2022 | AJ20: 2022 | AK20: 2022
A21: 17 | B21: 1.07.02 | C21: Capital account liberalization, Index | H21: 2019 | I21: 2019 | K21: 2019 | L21: 2019 | M21: 2019 | N21: 2019 | P21: 2019 | Q21: 2019 | R21: 2019 | S21: 2019 | T21: 2019 | U21: 2019 | V21: 2019 | W21: 2019 | X21: 2019 | Y21: 2019 | Z21: 2019 | AA21: 2019 | AB21: 2019 | AC21: 2019 | AD21: 2019 | AE21: 2019 | AF21: 2019 | AG21: 2019 | AH21: 2019 | AI21: 2019 | AJ21: 2019 | AK21: 2019
A22: 18 | B22: 1.07.03 | C22: Investment Freedom, Index | H22: 2022 | I22: 2022 | J22: 2022 | K22: 2022 | L22: 2022 | M22: 2022 | N22: 2022 | O22: 2022 | P22: 2022 | Q22: 2020 | R22: 2022 | S22: 2022 | T22: 2022 | U22: 2022 | V22: 2022 | W22: 2022 | X22: 2022 | Y22: 2022 | Z22: 2022 | AA22: 2022 | AB22: 2022 | AC22: 2022 | AD22: 2022 | AE22: 2022 | AF22: 2022 | AG22: 2022 | AH22: 2022 | AI22: 2022 | AJ22: 2022 | AK22: 2022
A23: 19 | B23: 1.08 | C23: Exchange rate stability, parity change from national currency to SDR, 2022/2020 | H23: 2021 | I23: 2021 | J23: 2021 | K23: 2021 | L23: 2021 | M23: 2021 | N23: 2021 | O23: 2021 | P23: 2021 | Q23: 2021 | R23: 2021 | S23: 2021 | T23: 2021 | U23: 2020 | V23: 2021 | W23: 2021 | X23: 2020 | Y23: 2021 | Z23: 2021 | AA23: 2021 | AB23: 2021 | AC23: 2021 | AD23: 2021 | AE23: 2021 | AF23: 2021 | AG23: 2021 | AH23: 2021 | AI23: 2021 | AJ23: 2021 | AK23: 2021
A24: 20 | B24: 1.09 | C24: Domestic credit to private sector, % of GDP | H24: 2020 | I24: 2020 | J24: 2020 | K24: 2020 | M24: 2020 | N24: 2020 | P24: 2020 | Q24: 2020 | R24: 2020 | S24: 2020 | T24: 2020 | V24: 2020 | W24: 2020 | X24: 2020 | Y24: 2020 | Z24: 2020 | AA24: 2020 | AB24: 2020 | AC24: 2020 | AD24: 2020 | AE24: 2020 | AF24: 2020 | AG24: 2019 | AH24: 2020 | AI24: 2020 | AJ24: 2020 | AK24: 2020
A25: 21 | B25: 1.10 | C25: Foreign trade and payments risk
A26: 22 | B26: 1.10.01 | C26: Country credit rating | H26: 2022 | I26: 2022 | K26: 2022 | L26: 2022 | M26: 2022 | N26: 2022 | O26: 2022 | P26: 2022 | Q26: 2022 | R26: 2022 | S26: 2022 | T26: 2022 | U26: 2022 | V26: 2022 | W26: 2022 | Y26: 2022 | Z26: 2022 | AA26: 2022 | AB26: 2022 | AC26: 2022 | AD26: 2022 | AE26: 2022 | AF26: 2022 | AG26: 2022 | AH26: 2022 | AI26: 2022 | AJ26: 2022 | AK26: 2022
A27: 23 | B27: 1.10.02 | C27: Gross debt, % GDP | H27: 2021 | I27: 2021 | J27: 2021 | K27: 2021 | L27: 2021 | M27: 2021 | N27: 2021 | O27: 2021 | P27: 2021 | Q27: 2021 | R27: 2021 | S27: 2021 | T27: 2021 | U27: 2021 | V27: 2021 | W27: 2021 | X27: 2021 | Y27: 2021 | Z27: 2021 | AA27: 2021 | AB27: 2021 | AC27: 2021 | AD27: 2021 | AE27: 2021 | AF27: 2021 | AG27: 2021 | AH27: 2021 | AI27: 2021 | AJ27: 2021 | AK27: 2021
A28: 24 | B28: 1.11 | C28: Trade costs
A29: 25 | B29: 1.11.01 | C29: Logistics performance, index | H29: 2018 | I29: 2018 | J29: 2018 | K29: 2018 | L29: 2018 | M29: 2018 | N29: 2018 | P29: 2018 | Q29: 2018 | R29: 2018 | S29: 2018 | T29: 2018 | U29: 2018 | V29: 2018 | W29: 2018 | X29: 2018 | Y29: 2018 | Z29: 2018 | AA29: 2018 | AB29: 2018 | AC29: 2018 | AD29: 2018 | AE29: 2018 | AF29: 2018 | AG29: 2018 | AH29: 2018 | AI29: 2018 | AJ29: 2018 | AK29: 2018
A30: 26 | B30: 1.11.02 | C30: Corruption perceptions, index | H30: 2021 | I30: 2021 | J30: 2021 | K30: 2021 | L30: 2021 | M30: 2021 | N30: 2021 | O30: 2021 | P30: 2021 | Q30: 2021 | R30: 2021 | S30: 2021 | T30: 2021 | U30: 2021 | V30: 2021 | W30: 2021 | X30: 2021 | Y30: 2021 | Z30: 2021 | AA30: 2021 | AB30: 2021 | AC30: 2021 | AD30: 2021 | AE30: 2021 | AF30: 2021 | AG30: 2021 | AH30: 2021 | AI30: 2021 | AJ30: 2021 | AK30: 2021
A31: 27 | B31: 1.11.03 | C31: Rule of law, index | H31: 2020 | I31: 2020 | J31: 2020 | K31: 2020 | L31: 2020 | M31: 2020 | N31: 2020 | O31: 2020 | P31: 2020 | Q31: 2020 | R31: 2020 | S31: 2020 | T31: 2020 | U31: 2020 | V31: 2020 | W31: 2020 | X31: 2020 | Y31: 2020 | Z31: 2020 | AA31: 2020 | AB31: 2020 | AC31: 2020 | AD31: 2020 | AE31: 2020 | AF31: 2020 | AG31: 2020 | AH31: 2020 | AI31: 2020 | AJ31: 2020 | AK31: 2020
A32: 28 | B32: 1.12 | C32: Monetary policy intervention
A33: 29 | B33: 1.12.01 | C33: Current account balance, % GDP | H33: 2021 | I33: 2021 | J33: 2021 | K33: 2021 | L33: 2021 | M33: 2021 | N33: 2021 | O33: 2021 | P33: 2021 | Q33: 2021 | R33: 2021 | S33: 2021 | T33: 2021 | U33: 2021 | V33: 2021 | W33: 2021 | X33: 2021 | Y33: 2021 | Z33: 2021 | AA33: 2021 | AB33: 2021 | AC33: 2021 | AD33: 2021 | AE33: 2021 | AF33: 2021 | AG33: 2021 | AH33: 2021 | AI33: 2021 | AJ33: 2021 | AK33: 2021
A34: 30 | B34: 1.12.02 | C34: Change (1-year) in total reserves (includes gold), % GDP | H34: 2021 | I34: 2021 | J34: 2020 | K34: 2021 | L34: 2021 | M34: 2021 | N34: 2021 | O34: 2021 | P34: 2021 | Q34: 2021 | R34: 2021 | S34: 2021 | T34: 2021 | U34: 2021 | V34: 2021 | W34: 2021 | X34: 2020 | Y34: 2021 | Z34: 2021 | AA34: 2019 | AB34: 2020 | AC34: 2021 | AD34: 2021 | AE34: 2021 | AF34: 2021 | AG34: 2021 | AH34: 2021 | AI34: 2021 | AJ34: 2021 | AK34: 2021
A35: 31 | B35: 1.13 | C35: Export concentration
A36: 32 | B36: 1.13.01 | C36: Export market concentration, Top 5 as % total | H36: 2021 | I36: 2021 | J36: 2021 | K36: 2021 | L36: 2021 | M36: 2021 | N36: 2021 | O36: 2021 | P36: 2021 | Q36: 2021 | R36: 2021 | S36: 2021 | T36: 2021 | U36: 2021 | V36: 2021 | W36: 2021 | X36: 2021 | Y36: 2021 | Z36: 2021 | AA36: 2021 | AB36: 2021 | AC36: 2021 | AD36: 2021 | AE36: 2021 | AF36: 2021 | AG36: 2021 | AH36: 2021 | AI36: 2021 | AJ36: 2021 | AK36: 2021
A37: 33 | B37: 1.13.02 | C37: Export product concentration, Top 5 as % total | H37: 2021 | I37: 2021 | J37: 2021 | K37: 2021 | L37: 2021 | M37: 2021 | N37: 2021 | O37: 2021 | P37: 2021 | Q37: 2021 | R37: 2021 | S37: 2021 | T37: 2021 | U37: 2021 | V37: 2021 | W37: 2021 | X37: 2021 | Y37: 2021 | Z37: 2021 | AA37: 2021 | AB37: 2021 | AC37: 2021 | AD37: 2021 | AE37: 2021 | AF37: 2021 | AG37: 2021 | AH37: 2021 | AI37: 2021 | AJ37: 2021 | AK37: 2021
A38: 34 | B38: 1.14 | C38: Exports of goods and services
A39: 35 | B39: 1.14.01 | C39: Merchandise exports, US$ | H39: 2021 | I39: 2021 | J39: 2021 | K39: 2021 | L39: 2021 | M39: 2021 | N39: 2021 | O39: 2021 | P39: 2021 | Q39: 2021 | R39: 2021 | S39: 2021 | T39: 2021 | U39: 2021 | V39: 2021 | W39: 2021 | X39: 2021 | Y39: 2021 | Z39: 2021 | AA39: 2021 | AB39: 2021 | AC39: 2021 | AD39: 2021 | AE39: 2021 | AF39: 2021 | AG39: 2021 | AH39: 2021 | AI39: 2021 | AJ39: 2021 | AK39: 2021
A40: 36 | B40: 1.14.02 | C40: Commercial services exports, US$ | H40: 2021 | I40: 2021 | J40: 2021 | K40: 2021 | L40: 2021 | M40: 2021 | N40: 2021 | O40: 2021 | P40: 2021 | Q40: 2021 | R40: 2021 | S40: 2021 | T40: 2021 | U40: 2021 | V40: 2021 | W40: 2021 | X40: 2021 | Y40: 2021 | Z40: 2021 | AA40: 2021 | AB40: 2021 | AC40: 2021 | AD40: 2021 | AE40: 2021 | AF40: 2021 | AG40: 2021 | AH40: 2021 | AI40: 2021 | AJ40: 2021 | AK40: 2021
A41: 37 | B41: 1.15 | C41: Technological innovation
...

Sheet 5 - Profile (Print)
A1: =OFFSET([1]PowerPivot!A3,A6,0) -> #VALUE! | CP1: =A1 -> #VALUE!
CP2: 31
B4: Filter | C4: Indicator | D4: Column1 | E4: Column12 | G4: Column4 | H4: Column5 | I4: Column3 | J4: Rank (of 30) | K4: Column2 | L4: Value | M4: Year | O4: Score (0-100)
B5: 1 Economic Pillar | C5: 1 Economic Pillar | J5: Rank | K5: Rank +/- | L5: Value | M5: Year | O5: Score (and 30-country average ◊)
A6: =CP2 -> 31 | B6: 1 Economic Pillar | C6: 1.01 | D6: Consumer price inflation | J6: =IF(INDEX(Rank2025!5:5,MATCH($A$1,Rank2025!$1:$1,0))="","-",(INDEX(Rank2025!5:5,MATCH($A$1,Rank2025!$1:$1,0)))) -> #VALUE! | K6: =W6 -> - | L6: =IF(INDEX([1]Value2024!5:5,MATCH($A$1,[1]Value2024!$1:$1,0))="","-",(INDEX([1]Value2024!5:5,MATCH($A$1,[1]Value2024!$1:$1,0)))) -> #VALUE! | M6: =IF(INDEX([1]Year2024!5:5,MATCH($A$1,[1]Year2024!$1:$1,0))="","-",(INDEX([1]Year2024!5:5,MATCH($A$1,[1]Year2024!$1:$1,0)))) -> #VALUE! | O6: =IF(INDEX([1]Score2024!5:5,MATCH($A$1,[1]Score2024!$1:$1,0))="","-",(INDEX([1]Score2024!5:5,MATCH($A$1,[1]Score2024!$1:$1,0)))) -> #VALUE! | P6: =IF(Table137[[#This Row],[Score (0-100)]]="-","",Table137[[#This Row],[Score (0-100)]]+5) -> #VALUE! | R6: =IF(V6="-",0,[1]Score2024!AO5+5) -> #VALUE! | S6: 1 | U6: =IF(INDEX([1]Rank2023!5:5,MATCH($A$1,[1]Rank2023!$1:$1,0))="","-",(INDEX([1]Rank2023!5:5,MATCH($A$1,[1]Rank2023!$1:$1,0)))) -> #VALUE! | V6: =Table137[[#This Row],[Rank (of 30)]] -> #VALUE! | W6: =IFERROR(U6-V6,"-") -> -
B7: 1 Economic Pillar | C7: 1.02 | D7: Real GDP Growth per capita, % GDP | J7: =IF(INDEX(Rank2025!6:6,MATCH($A$1,Rank2025!$1:$1,0))="","-",(INDEX(Rank2025!6:6,MATCH($A$1,Rank2025!$1:$1,0)))) -> #VALUE! | K7: =W7 -> - | L7: =IF(INDEX([1]Value2024!6:6,MATCH($A$1,[1]Value2024!$1:$1,0))="","-",(INDEX([1]Value2024!6:6,MATCH($A$1,[1]Value2024!$1:$1,0)))) -> #VALUE! | M7: =IF(INDEX([1]Year2024!6:6,MATCH($A$1,[1]Year2024!$1:$1,0))="","-",(INDEX([1]Year2024!6:6,MATCH($A$1,[1]Year2024!$1:$1,0)))) -> #VALUE! | O7: =IF(INDEX([1]Score2024!6:6,MATCH($A$1,[1]Score2024!$1:$1,0))="","-",(INDEX([1]Score2024!6:6,MATCH($A$1,[1]Score2024!$1:$1,0)))) -> #VALUE! | P7: =IF(Table137[[#This Row],[Score (0-100)]]="-","",Table137[[#This Row],[Score (0-100)]]+5) -> #VALUE! | R7: =IF(V7="-",0,[1]Score2024!AO6+5) -> #VALUE! | S7: 2 | U7: =IF(INDEX([1]Rank2023!6:6,MATCH($A$1,[1]Rank2023!$1:$1,0))="","-",(INDEX([1]Rank2023!6:6,MATCH($A$1,[1]Rank2023!$1:$1,0)))) -> #VALUE! | V7: =Table137[[#This Row],[Rank (of 30)]] -> #VALUE! | W7: =IFERROR(U7-V7,"-") -> -
B8: 1 Economic Pillar | C8: 1.03 | D8: Growth in labor force, % | J8: =IF(INDEX(Rank2025!7:7,MATCH($A$1,Rank2025!$1:$1,0))="","-",(INDEX(Rank2025!7:7,MATCH($A$1,Rank2025!$1:$1,0)))) -> #VALUE! | K8: =W8 -> - | L8: =IF(INDEX([1]Value2024!7:7,MATCH($A$1,[1]Value2024!$1:$1,0))="","-",(INDEX([1]Value2024!7:7,MATCH($A$1,[1]Value2024!$1:$1,0)))) -> #VALUE! | M8: =IF(INDEX([1]Year2024!7:7,MATCH($A$1,[1]Year2024!$1:$1,0))="","-",(INDEX([1]Year2024!7:7,MATCH($A$1,[1]Year2024!$1:$1,0)))) -> #VALUE! | O8: =IF(INDEX([1]Score2024!7:7,MATCH($A$1,[1]Score2024!$1:$1,0))="","-",(INDEX([1]Score2024!7:7,MATCH($A$1,[1]Score2024!$1:$1,0)))) -> #VALUE! | P8: =IF(Table137[[#This Row],[Score (0-100)]]="-","",Table137[[#This Row],[Score (0-100)]]+5) -> #VALUE! | R8: =IF(V8="-",0,[1]Score2024!AO7+5) -> #VALUE! | S8: 3 | U8: =IF(INDEX([1]Rank2023!7:7,MATCH($A$1,[1]Rank2023!$1:$1,0))="","-",(INDEX([1]Rank2023!7:7,MATCH($A$1,[1]Rank2023!$1:$1,0)))) -> #VALUE! | V8: =Table137[[#This Row],[Rank (of 30)]] -> #VALUE! | W8: =IFERROR(U8-V8,"-") -> -
B9: 1 Economic Pillar | C9: 1.04 | D9: Foreign direct investment, net inflows, % GDP | J9: =IF(INDEX(Rank2025!8:8,MATCH($A$1,Rank2025!$1:$1,0))="","-",(INDEX(Rank2025!8:8,MATCH($A$1,Rank2025!$1:$1,0)))) -> #VALUE! | K9: =W9 -> - | L9: =IF(INDEX([1]Value2024!8:8,MATCH($A$1,[1]Value2024!$1:$1,0))="","-",(INDEX([1]Value2024!8:8,MATCH($A$1,[1]Value2024!$1:$1,0)))) -> #VALUE! | M9: =IF(INDEX([1]Year2024!8:8,MATCH($A$1,[1]Year2024!$1:$1,0))="","-",(INDEX([1]Year2024!8:8,MATCH($A$1,[1]Year2024!$1:$1,0)))) -> #VALUE! | O9: =IF(INDEX([1]Score2024!8:8,MATCH($A$1,[1]Score2024!$1:$1,0))="","-",(INDEX([1]Score2024!8:8,MATCH($A$1,[1]Score2024!$1:$1,0)))) -> #VALUE! | P9: =IF(Table137[[#This Row],[Score (0-100)]]="-","",Table137[[#This Row],[Score (0-100)]]+5) -> #VALUE! | R9: =IF(V9="-",0,[1]Score2024!AO8+5) -> #VALUE! | S9: 4 | U9: =IF(INDEX([1]Rank2023!8:8,MATCH($A$1,[1]Rank2023!$1:$1,0))="","-",(INDEX([1]Rank2023!8:8,MATCH($A$1,[1]Rank2023!$1:$1,0)))) -> #VALUE! | V9: =Table137[[#This Row],[Rank (of 30)]] -> #VALUE! | W9: =IFERROR(U9-V9,"-") -> -
B10: 1 Economic Pillar | C10: 1.05 | D10: Gross fixed capital formation, % GDP | J10: =IF(INDEX(Rank2025!9:9,MATCH($A$1,Rank2025!$1:$1,0))="","-",(INDEX(Rank2025!9:9,MATCH($A$1,Rank2025!$1:$1,0)))) -> #VALUE! | K10: =W10 -> - | L10: =IF(INDEX([1]Value2024!9:9,MATCH($A$1,[1]Value2024!$1:$1,0))="","-",(INDEX([1]Value2024!9:9,MATCH($A$1,[1]Value2024!$1:$1,0)))) -> #VALUE! | M10: =IF(INDEX([1]Year2024!9:9,MATCH($A$1,[1]Year2024!$1:$1,0))="","-",(INDEX([1]Year2024!9:9,MATCH($A$1,[1]Year2024!$1:$1,0)))) -> #VALUE! | O10: =IF(INDEX([1]Score2024!9:9,MATCH($A$1,[1]Score2024!$1:$1,0))="","-",(INDEX([1]Score2024!9:9,MATCH($A$1,[1]Score2024!$1:$1,0)))) -> #VALUE! | P10: =IF(Table137[[#This Row],[Score (0-100)]]="-","",Table137[[#This Row],[Score (0-100)]]+5) -> #VALUE! | R10: =IF(V10="-",0,[1]Score2024!AO9+5) -> #VALUE! | S10: 5 | U10: =IF(INDEX([1]Rank2023!9:9,MATCH($A$1,[1]Rank2023!$1:$1,0))="","-",(INDEX([1]Rank2023!9:9,MATCH($A$1,[1]Rank2023!$1:$1,0)))) -> #VALUE! | V10: =Table137[[#This Row],[Rank (of 30)]] -> #VALUE! | W10: =IFERROR(U10-V10,"-") -> -
B11: 1 Economic Pillar | C11: 1.06 | D11: Tariff & non-tariff barriers | J11: =IF(INDEX(Rank2025!10:10,MATCH($A$1,Rank2025!$1:$1,0))="","-",(INDEX(Rank2025!10:10,MATCH($A$1,Rank2025!$1:$1,0)))) -> #VALUE! | K11: =W11 -> - | L11: =IF(INDEX([1]Value2024!10:10,MATCH($A$1,[1]Value2024!$1:$1,0))="","-",(INDEX([1]Value2024!10:10,MATCH($A$1,[1]Value2024!$1:$1,0)))) -> #VALUE! | M11: =IF(INDEX([1]Year2024!10:10,MATCH($A$1,[1]Year2024!$1:$1,0))="","-",(INDEX([1]Year2024!10:10,MATCH($A$1,[1]Year2024!$1:$1,0)))) -> #VALUE! | O11: =IF(INDEX([1]Score2024!10:10,MATCH($A$1,[1]Score2024!$1:$1,0))="","-",(INDEX([1]Score2024!10:10,MATCH($A$1,[1]Score2024!$1:$1,0)))) -> #VALUE! | P11: =IF(Table137[[#This Row],[Score (0-100)]]="-","",Table137[[#This Row],[Score (0-100)]]+5) -> #VALUE! | R11: =IF(V11="-",0,[1]Score2024!AO10+5) -> #VALUE! | S11: 6 | U11: =IF(INDEX([1]Rank2023!10:10,MATCH($A$1,[1]Rank2023!$1:$1,0))="","-",(INDEX([1]Rank2023!10:10,MATCH($A$1,[1]Rank2023!$1:$1,0)))) -> #VALUE! | V11: =Table137[[#This Row],[Rank (of 30)]] -> #VALUE! | W11: =IFERROR(U11-V11,"-") -> -
B12: 1 Economic Pillar | C12: 1.06.01 | D12: Tariff barriers | J12: =IF(INDEX(Rank2025!11:11,MATCH($A$1,Rank2025!$1:$1,0))="","-",(INDEX(Rank2025!11:11,MATCH($A$1,Rank2025!$1:$1,0)))) -> #VALUE! | K12: =W12 -> - | L12: =IF(INDEX([1]Value2024!11:11,MATCH($A$1,[1]Value2024!$1:$1,0))="","-",(INDEX([1]Value2024!11:11,MATCH($A$1,[1]Value2024!$1:$1,0)))) -> #VALUE! | M12: =IF(INDEX([1]Year2024!11:11,MATCH($A$1,[1]Year2024!$1:$1,0))="","-",(INDEX([1]Year2024!11:11,MATCH($A$1,[1]Year2024!$1:$1,0)))) -> #VALUE! | O12: =IF(INDEX([1]Score2024!11:11,MATCH($A$1,[1]Score2024!$1:$1,0))="","-",(INDEX([1]Score2024!11:11,MATCH($A$1,[1]Score2024!$1:$1,0)))) -> #VALUE! | P12: =IF(Table137[[#This Row],[Score (0-100)]]="-","",Table137[[#This Row],[Score (0-100)]]+5) -> #VALUE! | R12: =IF(V12="-",0,[1]Score2024!AO11+5) -> #VALUE! | S12: 7 | U12: =IF(INDEX([1]Rank2023!11:11,MATCH($A$1,[1]Rank2023!$1:$1,0))="","-",(INDEX([1]Rank2023!11:11,MATCH($A$1,[1]Rank2023!$1:$1,0)))) -> #VALUE! | V12: =Table137[[#This Row],[Rank (of 30)]] -> #VALUE! | W12: =IFERROR(U12-V12,"-") -> -
B13: 1 Economic Pillar | C13: 1.06.01.a | D13: Tariff barriers in force | J13: =IF(INDEX(Rank2025!12:12,MATCH($A$1,Rank2025!$1:$1,0))="","-",(INDEX(Rank2025!12:12,MATCH($A$1,Rank2025!$1:$1,0)))) -> #VALUE! | K13: =W13 -> - | L13: =IF(INDEX([1]Value2024!12:12,MATCH($A$1,[1]Value2024!$1:$1,0))="","-",(INDEX([1]Value2024!12:12,MATCH($A$1,[1]Value2024!$1:$1,0)))) -> #VALUE! | M13: =IF(INDEX([1]Year2024!12:12,MATCH($A$1,[1]Year2024!$1:$1,0))="","-",(INDEX([1]Year2024!12:12,MATCH($A$1,[1]Year2024!$1:$1,0)))) -> #VALUE! | O13: =IF(INDEX([1]Score2024!12:12,MATCH($A$1,[1]Score2024!$1:$1,0))="","-",(INDEX([1]Score2024!12:12,MATCH($A$1,[1]Score2024!$1:$1,0)))) -> #VALUE! | P13: =IF(Table137[[#This Row],[Score (0-100)]]="-","",Table137[[#This Row],[Score (0-100)]]+5) -> #VALUE! | R13: =IF(V13="-",0,[1]Score2024!AO12+5) -> #VALUE! | S13: 8 | U13: =IF(INDEX([1]Rank2023!12:12,MATCH($A$1,[1]Rank2023!$1:$1,0))="","-",(INDEX([1]Rank2023!12:12,MATCH($A$1,[1]Rank2023!$1:$1,0)))) -> #VALUE! | V13: =Table137[[#This Row],[Rank (of 30)]] -> #VALUE! | W13: =IFERROR(U13-V13,"-") -> -
B14: 1 Economic Pillar | C14: 1.06.01.b | D14: New tariff barriers 2023 | J14: =IF(INDEX(Rank2025!13:13,MATCH($A$1,Rank2025!$1:$1,0))="","-",(INDEX(Rank2025!13:13,MATCH($A$1,Rank2025!$1:$1,0)))) -> #VALUE! | K14: =W14 -> - | L14: =IF(INDEX([1]Value2024!13:13,MATCH($A$1,[1]Value2024!$1:$1,0))="","-",(INDEX([1]Value2024!13:13,MATCH($A$1,[1]Value2024!$1:$1,0)))) -> #VALUE! | M14: =IF(INDEX([1]Year2024!13:13,MATCH($A$1,[1]Year2024!$1:$1,0))="","-",(INDEX([1]Year2024!13:13,MATCH($A$1,[1]Year2024!$1:$1,0)))) -> #VALUE! | O14: =IF(INDEX([1]Score2024!13:13,MATCH($A$1,[1]Score2024!$1:$1,0))="","-",(INDEX([1]Score2024!13:13,MATCH($A$1,[1]Score2024!$1:$1,0)))) -> #VALUE! | P14: =IF(Table137[[#This Row],[Score (0-100)]]="-","",Table137[[#This Row],[Score (0-100)]]+5) -> #VALUE! | R14: =IF(V14="-",0,[1]Score2024!AO13+5) -> #VALUE! | S14: 9 | U14: =IF(INDEX([1]Rank2023!13:13,MATCH($A$1,[1]Rank2023!$1:$1,0))="","-",(INDEX([1]Rank2023!13:13,MATCH($A$1,[1]Rank2023!$1:$1,0)))) -> #VALUE! | V14: =Table137[[#This Row],[Rank (of 30)]] -> #VALUE! | W14: =IFERROR(U14-V14,"-") -> -
B15: 1 Economic Pillar | C15: 1.06.01.c | D15: Net percentage of imports affected by new tariff barriers (2023) | J15: =IF(INDEX(Rank2025!14:14,MATCH($A$1,Rank2025!$1:$1,0))="","-",(INDEX(Rank2025!14:14,MATCH($A$1,Rank2025!$1:$1,0)))) -> #VALUE! | K15: =W15 -> - | L15: =IF(INDEX([1]Value2024!14:14,MATCH($A$1,[1]Value2024!$1:$1,0))="","-",(INDEX([1]Value2024!14:14,MATCH($A$1,[1]Value2024!$1:$1,0)))) -> #VALUE! | M15: =IF(INDEX([1]Year2024!14:14,MATCH($A$1,[1]Year2024!$1:$1,0))="","-",(INDEX([1]Year2024!14:14,MATCH($A$1,[1]Year2024!$1:$1,0)))) -> #VALUE! | O15: =IF(INDEX([1]Score2024!14:14,MATCH($A$1,[1]Score2024!$1:$1,0))="","-",(INDEX([1]Score2024!14:14,MATCH($A$1,[1]Score2024!$1:$1,0)))) -> #VALUE! | P15: =IF(Table137[[#This Row],[Score (0-100)]]="-","",Table137[[#This Row],[Score (0-100)]]+5) -> #VALUE! | R15: =IF(V15="-",0,[1]Score2024!AO14+5) -> #VALUE! | S15: 10 | U15: =IF(INDEX([1]Rank2023!14:14,MATCH($A$1,[1]Rank2023!$1:$1,0))="","-",(INDEX([1]Rank2023!14:14,MATCH($A$1,[1]Rank2023!$1:$1,0)))) -> #VALUE! | V15: =Table137[[#This Row],[Rank (of 30)]] -> #VALUE! | W15: =IFERROR(U15-V15,"-") -> -
B16: 1 Economic Pillar | C16: 1.06.02 | D16: Non-tariff barriers | J16: =IF(INDEX(Rank2025!15:15,MATCH($A$1,Rank2025!$1:$1,0))="","-",(INDEX(Rank2025!15:15,MATCH($A$1,Rank2025!$1:$1,0)))) -> #VALUE! | K16: =W16 -> - | L16: =IF(INDEX([1]Value2024!15:15,MATCH($A$1,[1]Value2024!$1:$1,0))="","-",(INDEX([1]Value2024!15:15,MATCH($A$1,[1]Value2024!$1:$1,0)))) -> #VALUE! | M16: =IF(INDEX([1]Year2024!15:15,MATCH($A$1,[1]Year2024!$1:$1,0))="","-",(INDEX([1]Year2024!15:15,MATCH($A$1,[1]Year2024!$1:$1,0)))) -> #VALUE! | O16: =IF(INDEX([1]Score2024!15:15,MATCH($A$1,[1]Score2024!$1:$1,0))="","-",(INDEX([1]Score2024!15:15,MATCH($A$1,[1]Score2024!$1:$1,0)))) -> #VALUE! | P16: =IF(Table137[[#This Row],[Score (0-100)]]="-","",Table137[[#This Row],[Score (0-100)]]+5) -> #VALUE! | R16: =IF(V16="-",0,[1]Score2024!AO15+5) -> #VALUE! | S16: 11 | U16: =IF(INDEX([1]Rank2023!15:15,MATCH($A$1,[1]Rank2023!$1:$1,0))="","-",(INDEX([1]Rank2023!15:15,MATCH($A$1,[1]Rank2023!$1:$1,0)))) -> #VALUE! | V16: =Table137[[#This Row],[Rank (of 30)]] -> #VALUE! | W16: =IFERROR(U16-V16,"-") -> -
B17: 1 Economic Pillar | C17: 1.06.02.a | D17: Non-tariff barriers in force | J17: =IF(INDEX(Rank2025!16:16,MATCH($A$1,Rank2025!$1:$1,0))="","-",(INDEX(Rank2025!16:16,MATCH($A$1,Rank2025!$1:$1,0)))) -> #VALUE! | K17: =W17 -> - | L17: =IF(INDEX([1]Value2024!16:16,MATCH($A$1,[1]Value2024!$1:$1,0))="","-",(INDEX([1]Value2024!16:16,MATCH($A$1,[1]Value2024!$1:$1,0)))) -> #VALUE! | M17: =IF(INDEX([1]Year2024!16:16,MATCH($A$1,[1]Year2024!$1:$1,0))="","-",(INDEX([1]Year2024!16:16,MATCH($A$1,[1]Year2024!$1:$1,0)))) -> #VALUE! | O17: =IF(INDEX([1]Score2024!16:16,MATCH($A$1,[1]Score2024!$1:$1,0))="","-",(INDEX([1]Score2024!16:16,MATCH($A$1,[1]Score2024!$1:$1,0)))) -> #VALUE! | P17: =IF(Table137[[#This Row],[Score (0-100)]]="-","",Table137[[#This Row],[Score (0-100)]]+5) -> #VALUE! | R17: =IF(V17="-",0,[1]Score2024!AO16+5) -> #VALUE! | S17: 12 | U17: =IF(INDEX([1]Rank2023!16:16,MATCH($A$1,[1]Rank2023!$1:$1,0))="","-",(INDEX([1]Rank2023!16:16,MATCH($A$1,[1]Rank2023!$1:$1,0)))) -> #VALUE! | V17: =Table137[[#This Row],[Rank (of 30)]] -> #VALUE! | W17: =IFERROR(U17-V17,"-") -> -
B18: 1 Economic Pillar | C18: 1.06.02.b | D18: New non-tariff barriers 2023 | J18: =IF(INDEX(Rank2025!17:17,MATCH($A$1,Rank2025!$1:$1,0))="","-",(INDEX(Rank2025!17:17,MATCH($A$1,Rank2025!$1:$1,0)))) -> #VALUE! | K18: =W18 -> - | L18: =IF(INDEX([1]Value2024!17:17,MATCH($A$1,[1]Value2024!$1:$1,0))="","-",(INDEX([1]Value2024!17:17,MATCH($A$1,[1]Value2024!$1:$1,0)))) -> #VALUE! | M18: =IF(INDEX([1]Year2024!17:17,MATCH($A$1,[1]Year2024!$1:$1,0))="","-",(INDEX([1]Year2024!17:17,MATCH($A$1,[1]Year2024!$1:$1,0)))) -> #VALUE! | O18: =IF(INDEX([1]Score2024!17:17,MATCH($A$1,[1]Score2024!$1:$1,0))="","-",(INDEX([1]Score2024!17:17,MATCH($A$1,[1]Score2024!$1:$1,0)))) -> #VALUE! | P18: =IF(Table137[[#This Row],[Score (0-100)]]="-","",Table137[[#This Row],[Score (0-100)]]+5) -> #VALUE! | R18: =IF(V18="-",0,[1]Score2024!AO17+5) -> #VALUE! | S18: 13 | U18: =IF(INDEX([1]Rank2023!17:17,MATCH($A$1,[1]Rank2023!$1:$1,0))="","-",(INDEX([1]Rank2023!17:17,MATCH($A$1,[1]Rank2023!$1:$1,0)))) -> #VALUE! | V18: =Table137[[#This Row],[Rank (of 30)]] -> #VALUE! | W18: =IFERROR(U18-V18,"-") -> -
B19: 1 Economic Pillar | C19: 1.06.02.c | D19: Net percentage of imports affected by new non-tariff barriers (2023) | J19: =IF(INDEX(Rank2025!18:18,MATCH($A$1,Rank2025!$1:$1,0))="","-",(INDEX(Rank2025!18:18,MATCH($A$1,Rank2025!$1:$1,0)))) -> #VALUE! | K19: =W19 -> - | L19: =IF(INDEX([1]Value2024!18:18,MATCH($A$1,[1]Value2024!$1:$1,0))="","-",(INDEX([1]Value2024!18:18,MATCH($A$1,[1]Value2024!$1:$1,0)))) -> #VALUE! | M19: =IF(INDEX([1]Year2024!18:18,MATCH($A$1,[1]Year2024!$1:$1,0))="","-",(INDEX([1]Year2024!18:18,MATCH($A$1,[1]Year2024!$1:$1,0)))) -> #VALUE! | O19: =IF(INDEX([1]Score2024!18:18,MATCH($A$1,[1]Score2024!$1:$1,0))="","-",(INDEX([1]Score2024!18:18,MATCH($A$1,[1]Score2024!$1:$1,0)))) -> #VALUE! | P19: =IF(Table137[[#This Row],[Score (0-100)]]="-","",Table137[[#This Row],[Score (0-100)]]+5) -> #VALUE! | R19: =IF(V19="-",0,[1]Score2024!AO18+5) -> #VALUE! | S19: 14 | U19: =IF(INDEX([1]Rank2023!18:18,MATCH($A$1,[1]Rank2023!$1:$1,0))="","-",(INDEX([1]Rank2023!18:18,MATCH($A$1,[1]Rank2023!$1:$1,0)))) -> #VALUE! | V19: =Table137[[#This Row],[Rank (of 30)]] -> #VALUE! | W19: =IFERROR(U19-V19,"-") -> -
B20: 1 Economic Pillar | C20: 1.07 | D20: Trade liberalization | J20: =IF(INDEX(Rank2025!19:19,MATCH($A$1,Rank2025!$1:$1,0))="","-",(INDEX(Rank2025!19:19,MATCH($A$1,Rank2025!$1:$1,0)))) -> #VALUE! | K20: =W20 -> - | L20: =IF(INDEX([1]Value2024!19:19,MATCH($A$1,[1]Value2024!$1:$1,0))="","-",(INDEX([1]Value2024!19:19,MATCH($A$1,[1]Value2024!$1:$1,0)))) -> #VALUE! | M20: =IF(INDEX([1]Year2024!19:19,MATCH($A$1,[1]Year2024!$1:$1,0))="","-",(INDEX([1]Year2024!19:19,MATCH($A$1,[1]Year2024!$1:$1,0)))) -> #VALUE! | O20: =IF(INDEX([1]Score2024!19:19,MATCH($A$1,[1]Score2024!$1:$1,0))="","-",(INDEX([1]Score2024!19:19,MATCH($A$1,[1]Score2024!$1:$1,0)))) -> #VALUE! | P20: =IF(Table137[[#This Row],[Score (0-100)]]="-","",Table137[[#This Row],[Score (0-100)]]+5) -> #VALUE! | R20: =IF(V20="-",0,[1]Score2024!AO19+5) -> #VALUE! | S20: 15 | U20: =IF(INDEX([1]Rank2023!19:19,MATCH($A$1,[1]Rank2023!$1:$1,0))="","-",(INDEX([1]Rank2023!19:19,MATCH($A$1,[1]Rank2023!$1:$1,0)))) -> #VALUE! | V20: =Table137[[#This Row],[Rank (of 30)]] -> #VALUE! | W20: =IFERROR(U20-V20,"-") -> -
B21: 1 Economic Pillar | C21: 1.07.01 | D21: Regional Trade Agreements, number in force | J21: =IF(INDEX(Rank2025!20:20,MATCH($A$1,Rank2025!$1:$1,0))="","-",(INDEX(Rank2025!20:20,MATCH($A$1,Rank2025!$1:$1,0)))) -> #VALUE! | K21: =W21 -> - | L21: =IF(INDEX([1]Value2024!20:20,MATCH($A$1,[1]Value2024!$1:$1,0))="","-",(INDEX([1]Value2024!20:20,MATCH($A$1,[1]Value2024!$1:$1,0)))) -> #VALUE! | M21: =IF(INDEX([1]Year2024!20:20,MATCH($A$1,[1]Year2024!$1:$1,0))="","-",(INDEX([1]Year2024!20:20,MATCH($A$1,[1]Year2024!$1:$1,0)))) -> #VALUE! | O21: =IF(INDEX([1]Score2024!20:20,MATCH($A$1,[1]Score2024!$1:$1,0))="","-",(INDEX([1]Score2024!20:20,MATCH($A$1,[1]Score2024!$1:$1,0)))) -> #VALUE! | P21: =IF(Table137[[#This Row],[Score (0-100)]]="-","",Table137[[#This Row],[Score (0-100)]]+5) -> #VALUE! | R21: =IF(V21="-",0,[1]Score2024!AO20+5) -> #VALUE! | S21: 16 | U21: =IF(INDEX([1]Rank2023!20:20,MATCH($A$1,[1]Rank2023!$1:$1,0))="","-",(INDEX([1]Rank2023!20:20,MATCH($A$1,[1]Rank2023!$1:$1,0)))) -> #VALUE! | V21: =Table137[[#This Row],[Rank (of 30)]] -> #VALUE! | W21: =IFERROR(U21-V21,"-") -> -
B22: 1 Economic Pillar | C22: 1.07.02 | D22: Capital account liberalization, index | J22: =IF(INDEX(Rank2025!21:21,MATCH($A$1,Rank2025!$1:$1,0))="","-",(INDEX(Rank2025!21:21,MATCH($A$1,Rank2025!$1:$1,0)))) -> #VALUE! | K22: =W22 -> - | L22: =IF(INDEX([1]Value2024!21:21,MATCH($A$1,[1]Value2024!$1:$1,0))="","-",(INDEX([1]Value2024!21:21,MATCH($A$1,[1]Value2024!$1:$1,0)))) -> #VALUE! | M22: =IF(INDEX([1]Year2024!21:21,MATCH($A$1,[1]Year2024!$1:$1,0))="","-",(INDEX([1]Year2024!21:21,MATCH($A$1,[1]Year2024!$1:$1,0)))) -> #VALUE! | O22: =IF(INDEX([1]Score2024!21:21,MATCH($A$1,[1]Score2024!$1:$1,0))="","-",(INDEX([1]Score2024!21:21,MATCH($A$1,[1]Score2024!$1:$1,0)))) -> #VALUE! | P22: =IF(Table137[[#This Row],[Score (0-100)]]="-","",Table137[[#This Row],[Score (0-100)]]+5) -> #VALUE! | R22: =IF(V22="-",0,[1]Score2024!AO21+5) -> #VALUE! | S22: 17 | U22: =IF(INDEX([1]Rank2023!21:21,MATCH($A$1,[1]Rank2023!$1:$1,0))="","-",(INDEX([1]Rank2023!21:21,MATCH($A$1,[1]Rank2023!$1:$1,0)))) -> #VALUE! | V22: =Table137[[#This Row],[Rank (of 30)]] -> #VALUE! | W22: =IFERROR(U22-V22,"-") -> -
B23: 1 Economic Pillar | C23: 1.07.03 | D23: Investment Freedom, index | J23: =IF(INDEX(Rank2025!22:22,MATCH($A$1,Rank2025!$1:$1,0))="","-",(INDEX(Rank2025!22:22,MATCH($A$1,Rank2025!$1:$1,0)))) -> #VALUE! | K23: =W23 -> - | L23: =IF(INDEX([1]Value2024!22:22,MATCH($A$1,[1]Value2024!$1:$1,0))="","-",(INDEX([1]Value2024!22:22,MATCH($A$1,[1]Value2024!$1:$1,0)))) -> #VALUE! | M23: =IF(INDEX([1]Year2024!22:22,MATCH($A$1,[1]Year2024!$1:$1,0))="","-",(INDEX([1]Year2024!22:22,MATCH($A$1,[1]Year2024!$1:$1,0)))) -> #VALUE! | O23: =IF(INDEX([1]Score2024!22:22,MATCH($A$1,[1]Score2024!$1:$1,0))="","-",(INDEX([1]Score2024!22:22,MATCH($A$1,[1]Score2024!$1:$1,0)))) -> #VALUE! | P23: =IF(Table137[[#This Row],[Score (0-100)]]="-","",Table137[[#This Row],[Score (0-100)]]+5) -> #VALUE! | R23: =IF(V23="-",0,[1]Score2024!AO22+5) -> #VALUE! | S23: 18 | U23: =IF(INDEX([1]Rank2023!22:22,MATCH($A$1,[1]Rank2023!$1:$1,0))="","-",(INDEX([1]Rank2023!22:22,MATCH($A$1,[1]Rank2023!$1:$1,0)))) -> #VALUE! | V23: =Table137[[#This Row],[Rank (of 30)]] -> #VALUE! | W23: =IFERROR(U23-V23,"-") -> -
B24: 1 Economic Pillar | C24: 1.08 | D24: Exchange rate stability, parity change from national currency to SDR, 2023/2021 | J24: =IF(INDEX(Rank2025!23:23,MATCH($A$1,Rank2025!$1:$1,0))="","-",(INDEX(Rank2025!23:23,MATCH($A$1,Rank2025!$1:$1,0)))) -> #VALUE! | K24: =W24 -> - | L24: =IF(INDEX([1]Value2024!23:23,MATCH($A$1,[1]Value2024!$1:$1,0))="","-",(INDEX([1]Value2024!23:23,MATCH($A$1,[1]Value2024!$1:$1,0)))) -> #VALUE! | M24: =IF(INDEX([1]Year2024!23:23,MATCH($A$1,[1]Year2024!$1:$1,0))="","-",(INDEX([1]Year2024!23:23,MATCH($A$1,[1]Year2024!$1:$1,0)))) -> #VALUE! | O24: =IF(INDEX([1]Score2024!23:23,MATCH($A$1,[1]Score2024!$1:$1,0))="","-",(INDEX([1]Score2024!23:23,MATCH($A$1,[1]Score2024!$1:$1,0)))) -> #VALUE! | P24: =IF(Table137[[#This Row],[Score (0-100)]]="-","",Table137[[#This Row],[Score (0-100)]]+5) -> #VALUE! | R24: =IF(V24="-",0,[1]Score2024!AO23+5) -> #VALUE! | S24: 19 | U24: =IF(INDEX([1]Rank2023!23:23,MATCH($A$1,[1]Rank2023!$1:$1,0))="","-",(INDEX([1]Rank2023!23:23,MATCH($A$1,[1]Rank2023!$1:$1,0)))) -> #VALUE! | V24: =Table137[[#This Row],[Rank (of 30)]] -> #VALUE! | W24: =IFERROR(U24-V24,"-") -> -
B25: 1 Economic Pillar | C25: 1.09 | D25: Domestic credit to private sector, % of GDP | J25: =IF(INDEX(Rank2025!24:24,MATCH($A$1,Rank2025!$1:$1,0))="","-",(INDEX(Rank2025!24:24,MATCH($A$1,Rank2025!$1:$1,0)))) -> #VALUE! | K25: =W25 -> - | L25: =IF(INDEX([1]Value2024!24:24,MATCH($A$1,[1]Value2024!$1:$1,0))="","-",(INDEX([1]Value2024!24:24,MATCH($A$1,[1]Value2024!$1:$1,0)))) -> #VALUE! | M25: =IF(INDEX([1]Year2024!24:24,MATCH($A$1,[1]Year2024!$1:$1,0))="","-",(INDEX([1]Year2024!24:24,MATCH($A$1,[1]Year2024!$1:$1,0)))) -> #VALUE! | O25: =IF(INDEX([1]Score2024!24:24,MATCH($A$1,[1]Score2024!$1:$1,0))="","-",(INDEX([1]Score2024!24:24,MATCH($A$1,[1]Score2024!$1:$1,0)))) -> #VALUE! | P25: =IF(Table137[[#This Row],[Score (0-100)]]="-","",Table137[[#This Row],[Score (0-100)]]+5) -> #VALUE! | R25: =IF(V25="-",0,[1]Score2024!AO24+5) -> #VALUE! | S25: 20 | U25: =IF(INDEX([1]Rank2023!24:24,MATCH($A$1,[1]Rank2023!$1:$1,0))="","-",(INDEX([1]Rank2023!24:24,MATCH($A$1,[1]Rank2023!$1:$1,0)))) -> #VALUE! | V25: =Table137[[#This Row],[Rank (of 30)]] -> #VALUE! | W25: =IFERROR(U25-V25,"-") -> -
B26: 1 Economic Pillar | C26: 1.10 | D26: Foreign trade and payments risk | J26: =IF(INDEX(Rank2025!25:25,MATCH($A$1,Rank2025!$1:$1,0))="","-",(INDEX(Rank2025!25:25,MATCH($A$1,Rank2025!$1:$1,0)))) -> #VALUE! | K26: =W26 -> - | L26: =IF(INDEX([1]Value2024!25:25,MATCH($A$1,[1]Value2024!$1:$1,0))="","-",(INDEX([1]Value2024!25:25,MATCH($A$1,[1]Value2024!$1:$1,0)))) -> #VALUE! | M26: =IF(INDEX([1]Year2024!25:25,MATCH($A$1,[1]Year2024!$1:$1,0))="","-",(INDEX([1]Year2024!25:25,MATCH($A$1,[1]Year2024!$1:$1,0)))) -> #VALUE! | O26: =IF(INDEX([1]Score2024!25:25,MATCH($A$1,[1]Score2024!$1:$1,0))="","-",(INDEX([1]Score2024!25:25,MATCH($A$1,[1]Score2024!$1:$1,0)))) -> #VALUE! | P26: =IF(Table137[[#This Row],[Score (0-100)]]="-","",Table137[[#This Row],[Score (0-100)]]+5) -> #VALUE! | R26: =IF(V26="-",0,[1]Score2024!AO25+5) -> #VALUE! | S26: 21 | U26: =IF(INDEX([1]Rank2023!25:25,MATCH($A$1,[1]Rank2023!$1:$1,0))="","-",(INDEX([1]Rank2023!25:25,MATCH($A$1,[1]Rank2023!$1:$1,0)))) -> #VALUE! | V26: =Table137[[#This Row],[Rank (of 30)]] -> #VALUE! | W26: =IFERROR(U26-V26,"-") -> -
B27: 1 Economic Pillar | C27: 1.10.01 | D27: Country credit rating | J27: =IF(INDEX(Rank2025!26:26,MATCH($A$1,Rank2025!$1:$1,0))="","-",(INDEX(Rank2025!26:26,MATCH($A$1,Rank2025!$1:$1,0)))) -> #VALUE! | K27: =W27 -> - | L27: =IF(INDEX([1]Value2024!26:26,MATCH($A$1,[1]Value2024!$1:$1,0))="","-",(INDEX([1]Value2024!26:26,MATCH($A$1,[1]Value2024!$1:$1,0)))) -> #VALUE! | M27: =IF(INDEX([1]Year2024!26:26,MATCH($A$1,[1]Year2024!$1:$1,0))="","-",(INDEX([1]Year2024!26:26,MATCH($A$1,[1]Year2024!$1:$1,0)))) -> #VALUE! | O27: =IF(INDEX([1]Score2024!26:26,MATCH($A$1,[1]Score2024!$1:$1,0))="","-",(INDEX([1]Score2024!26:26,MATCH($A$1,[1]Score2024!$1:$1,0)))) -> #VALUE! | P27: =IF(Table137[[#This Row],[Score (0-100)]]="-","",Table137[[#This Row],[Score (0-100)]]+5) -> #VALUE! | R27: =IF(V27="-",0,[1]Score2024!AO26+5) -> #VALUE! | S27: 22 | U27: =IF(INDEX([1]Rank2023!26:26,MATCH($A$1,[1]Rank2023!$1:$1,0))="","-",(INDEX([1]Rank2023!26:26,MATCH($A$1,[1]Rank2023!$1:$1,0)))) -> #VALUE! | V27: =Table137[[#This Row],[Rank (of 30)]] -> #VALUE! | W27: =IFERROR(U27-V27,"-") -> -
B28: 1 Economic Pillar | C28: 1.10.02 | D28: Gross debt, % GDP | J28: =IF(INDEX(Rank2025!27:27,MATCH($A$1,Rank2025!$1:$1,0))="","-",(INDEX(Rank2025!27:27,MATCH($A$1,Rank2025!$1:$1,0)))) -> #VALUE! | K28: =W28 -> - | L28: =IF(INDEX([1]Value2024!27:27,MATCH($A$1,[1]Value2024!$1:$1,0))="","-",(INDEX([1]Value2024!27:27,MATCH($A$1,[1]Value2024!$1:$1,0)))) -> #VALUE! | M28: =IF(INDEX([1]Year2024!27:27,MATCH($A$1,[1]Year2024!$1:$1,0))="","-",(INDEX([1]Year2024!27:27,MATCH($A$1,[1]Year2024!$1:$1,0)))) -> #VALUE! | O28: =IF(INDEX([1]Score2024!27:27,MATCH($A$1,[1]Score2024!$1:$1,0))="","-",(INDEX([1]Score2024!27:27,MATCH($A$1,[1]Score2024!$1:$1,0)))) -> #VALUE! | P28: =IF(Table137[[#This Row],[Score (0-100)]]="-","",Table137[[#This Row],[Score (0-100)]]+5) -> #VALUE! | R28: =IF(V28="-",0,[1]Score2024!AO27+5) -> #VALUE! | S28: 23 | U28: =IF(INDEX([1]Rank2023!27:27,MATCH($A$1,[1]Rank2023!$1:$1,0))="","-",(INDEX([1]Rank2023!27:27,MATCH($A$1,[1]Rank2023!$1:$1,0)))) -> #VALUE! | V28: =Table137[[#This Row],[Rank (of 30)]] -> #VALUE! | W28: =IFERROR(U28-V28,"-") -> -
B29: 1 Economic Pillar | C29: 1.11 | D29: Trade costs | J29: =IF(INDEX(Rank2025!28:28,MATCH($A$1,Rank2025!$1:$1,0))="","-",(INDEX(Rank2025!28:28,MATCH($A$1,Rank2025!$1:$1,0)))) -> #VALUE! | K29: =W29 -> - | L29: =IF(INDEX([1]Value2024!28:28,MATCH($A$1,[1]Value2024!$1:$1,0))="","-",(INDEX([1]Value2024!28:28,MATCH($A$1,[1]Value2024!$1:$1,0)))) -> #VALUE! | M29: =IF(INDEX([1]Year2024!28:28,MATCH($A$1,[1]Year2024!$1:$1,0))="","-",(INDEX([1]Year2024!28:28,MATCH($A$1,[1]Year2024!$1:$1,0)))) -> #VALUE! | O29: =IF(INDEX([1]Score2024!28:28,MATCH($A$1,[1]Score2024!$1:$1,0))="","-",(INDEX([1]Score2024!28:28,MATCH($A$1,[1]Score2024!$1:$1,0)))) -> #VALUE! | P29: =IF(Table137[[#This Row],[Score (0-100)]]="-","",Table137[[#This Row],[Score (0-100)]]+5) -> #VALUE! | R29: =IF(V29="-",0,[1]Score2024!AO28+5) -> #VALUE! | S29: 24 | U29: =IF(INDEX([1]Rank2023!28:28,MATCH($A$1,[1]Rank2023!$1:$1,0))="","-",(INDEX([1]Rank2023!28:28,MATCH($A$1,[1]Rank2023!$1:$1,0)))) -> #VALUE! | V29: =Table137[[#This Row],[Rank (of 30)]] -> #VALUE! | W29: =IFERROR(U29-V29,"-") -> -
B30: 1 Economic Pillar | C30: 1.11.01 | D30: Logistics performance, index | J30: =IF(INDEX(Rank2025!29:29,MATCH($A$1,Rank2025!$1:$1,0))="","-",(INDEX(Rank2025!29:29,MATCH($A$1,Rank2025!$1:$1,0)))) -> #VALUE! | K30: =W30 -> - | L30: =IF(INDEX([1]Value2024!29:29,MATCH($A$1,[1]Value2024!$1:$1,0))="","-",(INDEX([1]Value2024!29:29,MATCH($A$1,[1]Value2024!$1:$1,0)))) -> #VALUE! | M30: =IF(INDEX([1]Year2024!29:29,MATCH($A$1,[1]Year2024!$1:$1,0))="","-",(INDEX([1]Year2024!29:29,MATCH($A$1,[1]Year2024!$1:$1,0)))) -> #VALUE! | O30: =IF(INDEX([1]Score2024!29:29,MATCH($A$1,[1]Score2024!$1:$1,0))="","-",(INDEX([1]Score2024!29:29,MATCH($A$1,[1]Score2024!$1:$1,0)))) -> #VALUE! | P30: =IF(Table137[[#This Row],[Score (0-100)]]="-","",Table137[[#This Row],[Score (0-100)]]+5) -> #VALUE! | R30: =IF(V30="-",0,[1]Score2024!AO29+5) -> #VALUE! | S30: 25 | U30: =IF(INDEX([1]Rank2023!29:29,MATCH($A$1,[1]Rank2023!$1:$1,0))="","-",(INDEX([1]Rank2023!29:29,MATCH($A$1,[1]Rank2023!$1:$1,0)))) -> #VALUE! | V30: =Table137[[#This Row],[Rank (of 30)]] -> #VALUE! | W30: =IFERROR(U30-V30,"-") -> -
B31: 1 Economic Pillar | C31: 1.11.02 | D31: Corruption perceptions, index | J31: =IF(INDEX(Rank2025!30:30,MATCH($A$1,Rank2025!$1:$1,0))="","-",(INDEX(Rank2025!30:30,MATCH($A$1,Rank2025!$1:$1,0)))) -> #VALUE! | K31: =W31 -> - | L31: =IF(INDEX([1]Value2024!30:30,MATCH($A$1,[1]Value2024!$1:$1,0))="","-",(INDEX([1]Value2024!30:30,MATCH($A$1,[1]Value2024!$1:$1,0)))) -> #VALUE! | M31: =IF(INDEX([1]Year2024!30:30,MATCH($A$1,[1]Year2024!$1:$1,0))="","-",(INDEX([1]Year2024!30:30,MATCH($A$1,[1]Year2024!$1:$1,0)))) -> #VALUE! | O31: =IF(INDEX([1]Score2024!30:30,MATCH($A$1,[1]Score2024!$1:$1,0))="","-",(INDEX([1]Score2024!30:30,MATCH($A$1,[1]Score2024!$1:$1,0)))) -> #VALUE! | P31: =IF(Table137[[#This Row],[Score (0-100)]]="-","",Table137[[#This Row],[Score (0-100)]]+5) -> #VALUE! | R31: =IF(V31="-",0,[1]Score2024!AO30+5) -> #VALUE! | S31: 26 | U31: =IF(INDEX([1]Rank2023!30:30,MATCH($A$1,[1]Rank2023!$1:$1,0))="","-",(INDEX([1]Rank2023!30:30,MATCH($A$1,[1]Rank2023!$1:$1,0)))) -> #VALUE! | V31: =Table137[[#This Row],[Rank (of 30)]] -> #VALUE! | W31: =IFERROR(U31-V31,"-") -> -
B32: 1 Economic Pillar | C32: 1.11.03 | D32: Rule of law, index | J32: =IF(INDEX(Rank2025!31:31,MATCH($A$1,Rank2025!$1:$1,0))="","-",(INDEX(Rank2025!31:31,MATCH($A$1,Rank2025!$1:$1,0)))) -> #VALUE! | K32: =W32 -> - | L32: =IF(INDEX([1]Value2024!31:31,MATCH($A$1,[1]Value2024!$1:$1,0))="","-",(INDEX([1]Value2024!31:31,MATCH($A$1,[1]Value2024!$1:$1,0)))) -> #VALUE! | M32: =IF(INDEX([1]Year2024!31:31,MATCH($A$1,[1]Year2024!$1:$1,0))="","-",(INDEX([1]Year2024!31:31,MATCH($A$1,[1]Year2024!$1:$1,0)))) -> #VALUE! | O32: =IF(INDEX([1]Score2024!31:31,MATCH($A$1,[1]Score2024!$1:$1,0))="","-",(INDEX([1]Score2024!31:31,MATCH($A$1,[1]Score2024!$1:$1,0)))) -> #VALUE! | P32: =IF(Table137[[#This Row],[Score (0-100)]]="-","",Table137[[#This Row],[Score (0-100)]]+5) -> #VALUE! | R32: =IF(V32="-",0,[1]Score2024!AO31+5) -> #VALUE! | S32: 27 | U32: =IF(INDEX([1]Rank2023!31:31,MATCH($A$1,[1]Rank2023!$1:$1,0))="","-",(INDEX([1]Rank2023!31:31,MATCH($A$1,[1]Rank2023!$1:$1,0)))) -> #VALUE! | V32: =Table137[[#This Row],[Rank (of 30)]] -> #VALUE! | W32: =IFERROR(U32-V32,"-") -> -
B33: 1 Economic Pillar | C33: 1.12 | D33: Monetary policy intervention | J33: =IF(INDEX(Rank2025!32:32,MATCH($A$1,Rank2025!$1:$1,0))="","-",(INDEX(Rank2025!32:32,MATCH($A$1,Rank2025!$1:$1,0)))) -> #VALUE! | K33: =W33 -> - | L33: =IF(INDEX([1]Value2024!32:32,MATCH($A$1,[1]Value2024!$1:$1,0))="","-",(INDEX([1]Value2024!32:32,MATCH($A$1,[1]Value2024!$1:$1,0)))) -> #VALUE! | M33: =IF(INDEX([1]Year2024!32:32,MATCH($A$1,[1]Year2024!$1:$1,0))="","-",(INDEX([1]Year2024!32:32,MATCH($A$1,[1]Year2024!$1:$1,0)))) -> #VALUE! | O33: =IF(INDEX([1]Score2024!32:32,MATCH($A$1,[1]Score2024!$1:$1,0))="","-",(INDEX([1]Score2024!32:32,MATCH($A$1,[1]Score2024!$1:$1,0)))) -> #VALUE! | P33: =IF(Table137[[#This Row],[Score (0-100)]]="-","",Table137[[#This Row],[Score (0-100)]]+5) -> #VALUE! | R33: =IF(V33="-",0,[1]Score2024!AO32+5) -> #VALUE! | S33: 28 | U33: =IF(INDEX([1]Rank2023!32:32,MATCH($A$1,[1]Rank2023!$1:$1,0))="","-",(INDEX([1]Rank2023!32:32,MATCH($A$1,[1]Rank2023!$1:$1,0)))) -> #VALUE! | V33: =Table137[[#This Row],[Rank (of 30)]] -> #VALUE! | W33: =IFERROR(U33-V33,"-") -> -
B34: 1 Economic Pillar | C34: 1.12.01 | D34: Current account balance, % GDP | J34: =IF(INDEX(Rank2025!33:33,MATCH($A$1,Rank2025!$1:$1,0))="","-",(INDEX(Rank2025!33:33,MATCH($A$1,Rank2025!$1:$1,0)))) -> #VALUE! | K34: =W34 -> - | L34: =IF(INDEX([1]Value2024!33:33,MATCH($A$1,[1]Value2024!$1:$1,0))="","-",(INDEX([1]Value2024!33:33,MATCH($A$1,[1]Value2024!$1:$1,0)))) -> #VALUE! | M34: =IF(INDEX([1]Year2024!33:33,MATCH($A$1,[1]Year2024!$1:$1,0))="","-",(INDEX([1]Year2024!33:33,MATCH($A$1,[1]Year2024!$1:$1,0)))) -> #VALUE! | O34: =IF(INDEX([1]Score2024!33:33,MATCH($A$1,[1]Score2024!$1:$1,0))="","-",(INDEX([1]Score2024!33:33,MATCH($A$1,[1]Score2024!$1:$1,0)))) -> #VALUE! | P34: =IF(Table137[[#This Row],[Score (0-100)]]="-","",Table137[[#This Row],[Score (0-100)]]+5) -> #VALUE! | R34: =IF(V34="-",0,[1]Score2024!AO33+5) -> #VALUE! | S34: 29 | U34: =IF(INDEX([1]Rank2023!33:33,MATCH($A$1,[1]Rank2023!$1:$1,0))="","-",(INDEX([1]Rank2023!33:33,MATCH($A$1,[1]Rank2023!$1:$1,0)))) -> #VALUE! | V34: =Table137[[#This Row],[Rank (of 30)]] -> #VALUE! | W34: =IFERROR(U34-V34,"-") -> -
